BEGIN:VCALENDAR
VERSION:2.0
PRODID:-//Prekindergarten Exceptional Student Education (PESE) - ECPv6.15.17//NONSGML v1.0//EN
CALSCALE:GREGORIAN
METHOD:PUBLISH
X-WR-CALNAME:Prekindergarten Exceptional Student Education (PESE)
X-ORIGINAL-URL:https://pese.ucf.edu
X-WR-CALDESC:Events for Prekindergarten Exceptional Student Education (PESE)
REFRESH-INTERVAL;VALUE=DURATION:PT1H
X-Robots-Tag:noindex
X-PUBLISHED-TTL:PT1H
BEGIN:VTIMEZONE
TZID:America/New_York
BEGIN:DAYLIGHT
TZOFFSETFROM:-0500
TZOFFSETTO:-0400
TZNAME:EDT
DTSTART:20240310T070000
END:DAYLIGHT
BEGIN:STANDARD
TZOFFSETFROM:-0400
TZOFFSETTO:-0500
TZNAME:EST
DTSTART:20241103T060000
END:STANDARD
BEGIN:DAYLIGHT
TZOFFSETFROM:-0500
TZOFFSETTO:-0400
TZNAME:EDT
DTSTART:20250309T070000
END:DAYLIGHT
BEGIN:STANDARD
TZOFFSETFROM:-0400
TZOFFSETTO:-0500
TZNAME:EST
DTSTART:20251102T060000
END:STANDARD
BEGIN:DAYLIGHT
TZOFFSETFROM:-0500
TZOFFSETTO:-0400
TZNAME:EDT
DTSTART:20260308T070000
END:DAYLIGHT
BEGIN:STANDARD
TZOFFSETFROM:-0400
TZOFFSETTO:-0500
TZNAME:EST
DTSTART:20261101T060000
END:STANDARD
END:VTIMEZONE
BEGIN:VEVENT
DTSTART;TZID=America/New_York:20251203T130000
DTEND;TZID=America/New_York:20251205T120000
DTSTAMP:20260425T142535
CREATED:20251101T181332Z
LAST-MODIFIED:20251101T181332Z
UID:1990-1764766800-1764936000@pese.ucf.edu
SUMMARY:PESE Staff Meeting
DESCRIPTION:PESE Staff Meeting | In person | Orlando
URL:https://pese.ucf.edu/event/pese-staff-meeting/
CATEGORIES:PESE Staff
END:VEVENT
END:VCALENDAR